BEGIN:VCALENDAR
VERSION:2.0
PRODID:-//SupporterClub - ECPv6.15.20//NONSGML v1.0//EN
CALSCALE:GREGORIAN
METHOD:PUBLISH
X-WR-CALNAME:SupporterClub
X-ORIGINAL-URL:https://supporterclub.net
X-WR-CALDESC:Veranstaltungen für SupporterClub
REFRESH-INTERVAL;VALUE=DURATION:PT1H
X-Robots-Tag:noindex
X-PUBLISHED-TTL:PT1H
BEGIN:VTIMEZONE
TZID:Europe/Berlin
BEGIN:DAYLIGHT
TZOFFSETFROM:+0100
TZOFFSETTO:+0200
TZNAME:CEST
DTSTART:20210328T010000
END:DAYLIGHT
BEGIN:STANDARD
TZOFFSETFROM:+0200
TZOFFSETTO:+0100
TZNAME:CET
DTSTART:20211031T010000
END:STANDARD
BEGIN:DAYLIGHT
TZOFFSETFROM:+0100
TZOFFSETTO:+0200
TZNAME:CEST
DTSTART:20220327T010000
END:DAYLIGHT
BEGIN:STANDARD
TZOFFSETFROM:+0200
TZOFFSETTO:+0100
TZNAME:CET
DTSTART:20221030T010000
END:STANDARD
BEGIN:DAYLIGHT
TZOFFSETFROM:+0100
TZOFFSETTO:+0200
TZNAME:CEST
DTSTART:20230326T010000
END:DAYLIGHT
BEGIN:STANDARD
TZOFFSETFROM:+0200
TZOFFSETTO:+0100
TZNAME:CET
DTSTART:20231029T010000
END:STANDARD
BEGIN:DAYLIGHT
TZOFFSETFROM:+0100
TZOFFSETTO:+0200
TZNAME:CEST
DTSTART:20240331T010000
END:DAYLIGHT
BEGIN:STANDARD
TZOFFSETFROM:+0200
TZOFFSETTO:+0100
TZNAME:CET
DTSTART:20241027T010000
END:STANDARD
BEGIN:DAYLIGHT
TZOFFSETFROM:+0100
TZOFFSETTO:+0200
TZNAME:CEST
DTSTART:20250330T010000
END:DAYLIGHT
BEGIN:STANDARD
TZOFFSETFROM:+0200
TZOFFSETTO:+0100
TZNAME:CET
DTSTART:20251026T010000
END:STANDARD
END:VTIMEZONE
BEGIN:VEVENT
DTSTART;TZID=Europe/Berlin:20230701T200000
DTEND;TZID=Europe/Berlin:20230702T023000
DTSTAMP:20260420T145259
CREATED:20230630T065328Z
LAST-MODIFIED:20230630T071101Z
UID:2330-1688241600-1688265000@supporterclub.net
SUMMARY:The Show must go on! THE DROWNS + SIDEWALKSURFERS + CHOKECOMBAT
DESCRIPTION:The Show must go on! \nAm Samstag in der #Glockenbachwerkstatt\, die unfassbar guten #TheDrowns aus Seattle\, dazu die #SidewalkSurfers aus Saarbrücken und #ChokeCombat aus #München! \nDJs runden das Programm ab! \nVeranstaltungsort:\nBürgerhaus Glockenbachwerkstatt\nBlumenstraße 7\n80331 München \nDJ Programm\, Biergarten\, Gaststätte und Bühne \nEinlass ab 20: Uhr \nhttps://www.facebook.com/events/759237895597557 \nAlfi\, wir trinken einen auf Dich! ❤ \nVeranstaltungsinformationen: \nwww.muft-concerts.de \nRock inside the Glock # 102 \n#THEDROWNS\n\nFor the bands that really make a difference\, there are releases that prove to be the proverbial ‘tipping point’ – taking them to another level\, exposing them to giant new waves of fans… \n“Under Tension“ definitely had its game-changing moments – but ultimately was hampered by a pandemic hell-bent on preventing this band from taking those tracks across the globe with serious gusto. \n….This record\, oh\, this record… an EP at that\, is without a doubt the one that will prove to be that game-changing moment for the vast majority within earshot. It includes epic ballads and heart-wrenching\, truly game-changing barn-burning life-altering tunes\, for TODAY. \nThis is the real deal. \nIf you’re into PUNK\, you are into this band\, and this record is epic! \nThe power and presence that this band will throw in your face in every way\, at every opportunity is an extension of “Under Tension” – Profound\, somewhat intimidating\, and most importantly – overwhelmingly welcoming… and noble! Best get out of the way\, or better yet\, sign up and join the fight! \n#SIDEWALKSURFERS\n\nVon der Westcoast Deutschlands kommend\, klingt die 4er-Kombo aus Saarbrücken maximal nach der Westküste der USA. \nUngezwungen und ohne Rücksicht auf Genre-Regeln spicken die Sidewalk Surfers klassische Skatepunk-Elemente mit Orgelmomenten und schnellen\, mitreissenden Riffs\, die das Tanzbein zucken lassen und den Circle-Pit eröffnen. \n#CHOKECOMBAT:\n\nAngry and pissed off Hardcore Punk straight in your ugly hippie face! \nHardcore in it‘s purest form\, the way it was meant to be: violent\, hateful and straight to the point. Not much room for interpretation here. \nIf you’re into early US Hardcore like MINOR THREAT\, NEGATIVE APPROACH and AGNOSTIC FRONT as well as into UK militant Oi! from the 80ies\, CHOKE COMBAT is definitely your thing. \nCHOKE COMBAT – Putting the boot back into Hardcore!\n+ DJs mit Punk auf Vinyl im Cafe\, solange Ihr munter seid… \n#punk #punkrock #glampunk #hardcore #hcpunk #skatepunk #punknroll #live #münchen #glockenbachwerkstatt #ontour\n#sidewalksurfersmusic \n00
URL:https://supporterclub.net/event/the-ahow-must-go-on-the-drowns-sidewalksurfers-chokecombat/
LOCATION:Bürgerhaus Glockenbachwerkstatt\, Blumenstrasse 7\, München\, Bayern\, 80331\, Deutschland
ATTACH;FMTTYPE=image/jpeg:https://supporterclub.net/wp-content/uploads/2023/06/IMG_2286.jpeg
ORGANIZER;CN="M%C3%BCnchner Union zur F%C3%B6rderung von Talenten (MUFT)":MAILTO:stefan@subkultura-booking.eu
END:VEVENT
BEGIN:VEVENT
DTSTART;TZID=Europe/Berlin:20230615T211500
DTEND;TZID=Europe/Berlin:20230615T221500
DTSTAMP:20260420T145259
CREATED:20230419T173835Z
LAST-MODIFIED:20230419T182155Z
UID:2298-1686863700-1686867300@supporterclub.net
SUMMARY:GRADE 2 + Support: KASSENGIPHT | Live in München
DESCRIPTION:Rock inside the Glock # 103\nVeranstaltung von\nMUFT Münchner Union zur Förderung von Talenten\nwww.muft-concerts.de\n\nPräsentiert\n#GRADE2:\nhttps://youtu.be/HhsRypa6d38\n\nund\n\n#KASSENGIPHT\nhttps://youtu.be/Nk1qqHFvCEU\n\nLocation\n\nBürgerhaus Glockenbachwerkstatt\nBlumenstraße 7\n80331 München\nTicket (eventim-light.com)\nVorverkauf: 14\,90 Euro\nAbendkasse: abweichender Preis\nEinlass: 20:00 Uhr\nKonzert: 21:15 Uhr\nGRADE2\n\n50 years after the genre turned\nthe music world upside-down\, Grade 2 bring\nthe raw power of old school punk to a new generation.\n\nTheir second release on Tim Armstrong's legendary\nHellcat Records is a thumping 15 track tour de\nforce melding the uncompromising ethos of punk with\nthe howl of contemporary injustice\, personal identity\nand frustrations of Gen-Z youth\, authentically told by\nthree lads with punk coursing through their veins.\n\nFormed on their native Isle of Wight when they were\njust 14 years old\, Jack Chatfield (guitar & vocals)\,\nJacob Hull (drums) and Sid Ryan (bass & vocals)\nhoned their craft covering punk pioneers before\ncreating a sound uniquely theirs!\nKASSENGIPHT\n\nSchnörkelloser Punkrock aus Bayern mit deutschen Texten\nund Liedern ausschließlich aus eigener Feder.\n\nBild/Veranstaltungscover: Martijn van den Heuvel\n\n\n#punk #grade2iow #oi #streetpunk #live\n#münchen #ontour #onstage\n\n00
URL:https://supporterclub.net/event/grade-2-support-kassengipht-live-in-muenchen/
LOCATION:Bürgerhaus Glockenbachwerkstatt\, Blumenstrasse 7\, München\, Bayern\, 80331\, Deutschland
CATEGORIES:Bühne,Konzert,live,on stage,Punk,Punk Rock,Street Punk
ATTACH;FMTTYPE=image/jpeg:https://supporterclub.net/wp-content/uploads/2023/04/342174151_176871091937816_7399697397462920914_n.jpg
ORGANIZER;CN="M%C3%BCnchner Union zur F%C3%B6rderung von Talenten (MUFT)":MAILTO:stefan@subkultura-booking.eu
END:VEVENT
BEGIN:VEVENT
DTSTART;TZID=Europe/Berlin:20230421T190000
DTEND;TZID=Europe/Berlin:20230421T214500
DTSTAMP:20260420T145259
CREATED:20230419T184026Z
LAST-MODIFIED:20230419T192715Z
UID:2310-1682103600-1682113500@supporterclub.net
SUMMARY:RAMONAS Europatour 2023 (München)
DESCRIPTION:Veranstaltung von \nMUFT Münchner Union zur Förderung von Talenten\nWebseite: https://www.muft-concerts.de/\n\nFacebook: https://www.facebook.com/muftconcerts\nVeranstaltungsort: Rote Sonne\nLokation: Maximiliansplatz 5\, 80333 München \n\nWebseite:  http://www.rote-sonne.com/\n\nFacebook:  https://www.facebook.com/rotesonne\n\nInstagram: https://www.instagram.com/clubrotesonne/\n\n\n\nKartenvorverkauf: EVENTIM-Link\nVorverkauf:17.- Euro\nAbendkasse: 20.- Euro\nBaby-Preis: 10.- Euro (für Gäste bis einschliesslich 25 Jahre)\n\n#RoteSonne #MÜNCHEN\n#ramonasuk #lattepiupunkrock\nThe Ramonas "We're a happy Family-Tour" • Latte+ • München\n\n00
URL:https://supporterclub.net/event/ramonas-europatour-2023-muenchen/
LOCATION:Rote Sonne\, Maximiliansplatz 5\, München\, Bayern\, 80333\, Deutschland
CATEGORIES:Bühne,Konzert,live,Oi,Oi Punk,on stage,Punk,Punk Rock,Street Punk
ATTACH;FMTTYPE=image/jpeg:https://supporterclub.net/wp-content/uploads/2023/04/342174911_968375954335966_7574036283317869258_n.jpg
ORGANIZER;CN="M%C3%BCnchner Union zur F%C3%B6rderung von Talenten (MUFT)":MAILTO:stefan@subkultura-booking.eu
END:VEVENT
BEGIN:VEVENT
DTSTART;VALUE=DATE:20230101
DTEND;VALUE=DATE:20240102
DTSTAMP:20260420T145259
CREATED:20230101T073351Z
LAST-MODIFIED:20230630T070410Z
UID:2325-1672531200-1704153599@supporterclub.net
SUMMARY:Not- und Krisenfälle in der Veranstaltungsgastronomie
DESCRIPTION:Telefonnummern für Not- und Krisenfälle: \n#Polizei 110 \n#suicideawareness unter 08000113 \n#Suizidnotruf 08008917391 \n#häuslicheGewalt unter 112 oder 08002000 \n#Kind in Gefahr unter 112 oder 08002000 \n#Tier in Not unter 144 \n#Feuerwehr und Rettungsdienst 112 \n#Krankentransport 19222 \n#ÄrztlicherBereitschaftsdienst Bayern 116117 \n#Giftnotruf München (0049) 08919240 \n#Giftnotruf Nürnberg (0049) 09113982451 \n#GewaltgegenFrauen Hilfetelefon 0800001110222 \n#Seelsorge 08001110111 oder 08001110222 \n#Krisendienst Notlage 08006553000 \n#Mindzone Information und Beratung Drogen München (0049) 08951657533 \n#Condrops (0049) 0893840820 \n#Drogenberatungsstelle München (0049) 08923347200 \n#Telefonnotruf für Suchtgefährdete (0049) 089282822 \n#Drogennotdienst L43 München/Prop e.V. 08000007767 \n#Taxi München eG (0049) 08921210 \n#Isarfunk Taxi München (0049) 089450540 \nBei Not- und Krisenfällen in der Gastronomie\, auf Veranstaltungen und Diskotheken können sich Betroffene auch an das jeweilige Sicherheitspersonal (Türsteher) wenden und Beistand erbitten. \nAuf vielen Events wird „Awareness Personal“ eingesetzt\, oder Mitarbeiter wurden entsprechend geschult. \nAlle Mitarbeiter auf Veranstaltungen und in Lokalen können angesprochen werden. \nWichtig ist schnell und frühzeitig auf bedrohliche Situationen und Zustände aufmerksam zu machen. \nSollte man selbst bemerken\, dass das eigene Befinden beeinträchtig ist\, auf keinen Fall einsame Orte aufsuchen\, nicht in den Sanitärräumen (Toiletten/WC) selbst einschliessen\, Dritte aufmerksam machen und um Beistand bitten. Wichtig ist deutlich zu kommunizieren\, dass man umgehend Beistand benötigt. \nSollte man sich ausserhalb von Veranstaltungsbereichen befinden kann man Taxis anhalten und um Hilfe bitten\, Mitarbeiter von Verkehrsbetrieben ansprechen\, oder uniformiertes Personal der örtlichen Sicherheitsdienste ansprechen. \nIn Zugangsbereichen von Veranstaltungen trifft man in der Regel Sicherheitspersonal (Türsteher) an. \nAn Haltestellen und Bahnsteigen der Beförderungsmittel sind oft Notmeldeeinrichtungen zu finden über die man Hilfe anfordern kann. \nBei telefonischen Hilferufen sind folgende Angaben unter Umständen wichtig: \n– gegebenenfalls den eigenen Namen nennen\n– Ort des Notfalles genau bennen (Adresse)\n– Art des Notfalles möglichst genau benennen\n– eigene Massnahmen schildern\n– den genannten Ort nicht verlassen\n– am Telefon bleiben und den Anweisungen folgen\n– sich den Rettungsdiensten kenntlich machen\n– Umstehende und Passanten um Beistand bitten \nErsthelfende vor Ort bei der hilfebedürftigen Person bleiben und Erste Hilfe Massnahmen durchführen bis der Rettungsdienst den Beistand übernimmt. \nGegebenenfalls Auslöser von Notfällen sichern und den Rettungsdiensten\, Feuerwehr\, oder der Polizei übergeben. \nStabilisierte Personen in Not vor Foto und Film durch Umstehende/Schaulustige schützen. \nDas Eigentum von Personen in Not sichern und den Rettungskräften übergeben. \nAls helfende Person sich selbst nicht in Gefahr bringen\, gegebenenfalls Schutzausrüstung (Handschuhe\, Atemwegschutz\, etc.) verwenden und Desinfektionsmittel angemessen benutzen. \nPersonen in Not nach Möglichkeit aus Gefahrenbereichen bringen und den ungehinderten Zugang von Rettungsdiensten sicherstellen. \nAnwesende Dritte anhalten bei der Hilfe mitzuwirken! \nAlle Angaben ohne Gewehr! \n00
URL:https://supporterclub.net/event/not-und-krisenfaelle-in-der-veranstaltungsgastronomie/
LOCATION:Bayern
CATEGORIES:Bühne,Elektro,HipHop,Konzert,live,Oi,Oi Punk,on stage,Punk,Punk Rock,Rap,Street Punk,Technisch,Techno
END:VEVENT
BEGIN:VEVENT
DTSTART;TZID=Europe/Berlin:20221016T200000
DTEND;TZID=Europe/Berlin:20221016T220000
DTSTAMP:20260420T145259
CREATED:20220909T155351Z
LAST-MODIFIED:20230630T070737Z
UID:1128-1665950400-1665957600@supporterclub.net
SUMMARY:THE SAINTE CATHERINES + Support: DOLLARS FOR DEADBEATS • Live in München
DESCRIPTION:Münchner Union zur Förderung von Talenten\nhttp://www.muft-concerts.de\n.\nund\nUnter Deck\nhttps://www.unterdeck.de/\n.\nPräsentieren:\n.\n#TheSainteCatherines – Back on the Road!\nhttps://youtu.be/FlecKEq28H0\n.\nThe Sainte Catherines were a Canadian six-piece punk-rock band who formed in Montreal\, Quebec\, Canada in 1999. The group’s name comes from Rue Sainte-Catherine\, one of Montreal’s main streets. Their third record\, The Art of Arrogance was released on local label Dare to Care Records in 2003 and on the German label Yo-Yo Records. In 2006\, the band released its fourth LP\, titled Dancing for Decadence. The album was released in the United States by #FatWreckChords. The Sainte Catherines are the first band from Quebec to be signed to Fat Wreck.\n.\nIn August 2006\, The Sainte Catherines played their 500th show.\n.\nThey also released split 7″ records with Fifth Hour Hero and Whiskey Sunday. In 2008\, The Sainte Catherines won a GAMIQ Award for punk album of the year. They disbanded in April 2012 after their farewell tour with The Hunters. The latter are managed by Hugo Mudie and their second album was produced by him and Marc-André Beaudet.\n.\nThe last show took place at Club Soda in Montréal on April 27\n.\n#DOLLARSFORDEADBEATS:\nhttps://youtu.be/6E2BSLxtwWI\n.\nFounded in late 2010 by guitar player Matt and singer Kirsty\, Dollars For Deadbeats had to endure countless lineup changes before finally becoming the family they are today.\n.\nJoined by Harry on bass\, Cory on rhythm guitar (Little Teeth\, Arliss Nancy) and Daniel on Drums (Kein Signal) they have developed their unique sound by blending everyone’s favourite genres from punk rock over indie to Americana.\n.\n\n#AWKWARDREUNION müssen ihre Tour leider canceln. \n. \nKartenvorverkauf:\nwww.eventim-light.com/de/a/5b33c4afdfd7af04b531ffc9/e/62c9f73554ec150d408bc68e \n\nAbendkasse:\nMUFT Members:\nBaby-Ticket:\n00
URL:https://supporterclub.net/event/the-sainte-catherines-support-dollars-for-deadbeats-live-in-muenchen/
LOCATION:Unter Deck\, Oberanger 26\, München\, Bayern\, 80331\, Deutschland
CATEGORIES:Bühne,Konzert,live,on stage,Punk,Punk Rock,Street Punk
ATTACH;FMTTYPE=image/jpeg:https://supporterclub.net/wp-content/uploads/2022/09/255425916_5395929000421653_4764697518362710568_n.jpg
ORGANIZER;CN="M%C3%BCnchner Union zur F%C3%B6rderung von Talenten (MUFT)":MAILTO:stefan@subkultura-booking.eu
END:VEVENT
BEGIN:VEVENT
DTSTART;TZID=Europe/Berlin:20221001T200000
DTEND;TZID=Europe/Berlin:20221001T220000
DTSTAMP:20260420T145259
CREATED:20220909T153252Z
LAST-MODIFIED:20230630T070916Z
UID:1115-1664654400-1664661600@supporterclub.net
SUMMARY:MILLIE MANDERS & THE SHUTUP + KID KLUMSY + CREEP | München
DESCRIPTION:Münchner Union zur Förderung von Talenten\nwww.muft-concerts.de\nund\nSUBKULTURA BOOKING\nhttps://www.facebook.com/subkulturabookings\nPräsentiert:\n.\nRock inside the Glock #96\n.\n#MILLIEMANDERSANDTHESHUTUP:\nhttps://youtu.be/dKpglSAwQhI\n.\nWith extensive support from BBC Introducing and Radio X and appearances at notable festivals such as Boomtown and Rebellion\, the last two years have propelled MILLIE MANDERS AND THE SHUTUP into the conscience of both the public and the music industry with a cross-genre punk that’s becoming\nincreasingly hard to ignore.\n.\nWith lyrics that discuss loss\, betrayal\, anger\, anxiety\, heartbreak and bitterness\, environmental catastrophe and political unrest\, they inspire the questioning of social norms.\n.\nFronted by Millie’s staggering vocal dexterity and backed by grinding guitars\, irresistible horns and a huge amount of pop appeal\, their live shows are renowned for their power and contagious energy.\n.\nThis year sees MMATSU finally touring their critically acclaimed debut album at festivals and on a full UK tour\, with tour dates already spanning the length of 2022 in both the UK and Europe.\n.\nWith a conscience that ensures there will be zero plastic wrapping on any merchandise or release\, and that limited-edition artwork and clothing are sold to help raise money for charities\, Millie Manders and The Shutup are striving to make a difference whilst keeping us uplifted and brilliantly entertained.\n.\n#KIDKLUMSY:\nhttps://youtu.be/OeHYTvrkExY\n.\nBased in Coalville\,Leics\, Kid Klumsy have now served their time on some juicy support slots\, ventured into Europe\, now headline their own shows (as well as still doing supports) and have their 4th EP due out this year on STP Records PLUS our first vinyl.\n.\n#CREEP:\nhttps://creep-band.bandcamp.com/\n.\nDie Musik der jungen Band aus dem Raum München setzt sich zusammen aus einer ordentlichen Portion Spaß\, Kreativität und viel Leidenschaft. Mit Anlehnung an Nirvana und verschiedenen Hard Rock Einflüssen bildet sich ein eigener facettenreicher Musikstil. Mal verspielt und dann wieder geradlinig auf die Zwölf. Treibendes Schlagzeug\, simple Gitarren und eingehende Gesangsmelodien – das ist Creep!\n.\n#DrongosforEurope müssen leider wegen der Hüft-OP von Sänger Tommy canceln\, wir bemühen uns um Ersatz!\n.\n#punkrock #punk #alternativerock #poppunk #münchen #glockenbachwerkstatt\n\n#live #onstage \nEintrittskarten/Vorverkauf:\nwww.eventim-light.com/de/a/5b33c4afdfd7af04b531ffc9/e/62a4d1207ea97a77788855ac \n\n\nEventim Ticket: 13.90 Euro\nAbendkasse:\nMuft Membership:\nBaby-Ticket:\n\n00
URL:https://supporterclub.net/event/millie-manders-the-shutup-kid-klumsy-creep-muenchen/
LOCATION:Bürgerhaus Glockenbachwerkstatt\, Blumenstrasse 7\, München\, Bayern\, 80331\, Deutschland
CATEGORIES:Bühne,Konzert,on stage,Punk,Punk Rock,Street Punk
ATTACH;FMTTYPE=image/jpeg:https://supporterclub.net/wp-content/uploads/2022/09/301529165_6308068365874374_2418616311555887699_n.jpg
ORGANIZER;CN="M%C3%BCnchner Union zur F%C3%B6rderung von Talenten (MUFT)":MAILTO:stefan@subkultura-booking.eu
END:VEVENT
BEGIN:VEVENT
DTSTART;TZID=Europe/Berlin:20220928T200000
DTEND;TZID=Europe/Berlin:20220928T220000
DTSTAMP:20260420T145259
CREATED:20220909T145027Z
LAST-MODIFIED:20230630T070854Z
UID:1097-1664395200-1664402400@supporterclub.net
SUMMARY:RECKLESS UPSTARTS + Special Guest: TEAR THEM DOWN + Support: SOIFERSONNE | München
DESCRIPTION:Münchner Union zur Förderung von Talenten\nwww.muft-concerts.de\n.\nPräsentiert:\n.\n#RecklessUpstarts\nhttps://www.youtube.com/watch?v=LULIbtwUJUU\n.\nReckless Upstarts hail from a working class city that has seen\nits fair share of ups and downs.\n.\nThey share in this struggle and determination\,\nand embody that element in their music.\n.\nOver the years\, they have expanded and carved out\na sound of their own that represents the working\nclass ethics of Oi! and street-punk\, coupled with\nsongs that\, at their core\, are representative of\nnot only their hometown\, but so many other\ncities in the 21st century.\n.\nConsistently upholding the values of a strong social\nconscience in their music\, the band stands on\nthe conviction that there is no tolerance\nfor intolerance in the music scene\,\nor society as a whole.\n.\nOver the years\, they played across\nCanada\, the US and Europe.\n.\nFrom dives to large venues\, they’ve shared the stage\nwith bands such as\n.\n#TheLastResort\, #OiPolloi\, #MontyNeysmith\, #SwinginUtters\, #HarringtonSaints\, #TheProwlers and #ThePress.\n.\nThe Reckless Upstarts have their Docs and Vans\nfirmly planted and are here to stay.\n.\n#TearThemDown\nhttps://www.youtube.com/watch?v=sqDNEoFkiPQ\n.\nTear Them Down gründeten sich 2010\nin Göteborg\, Schweden.\n.\nMit Hunderten von Shows in ganz Europa\nund einer Tour in Japan sind sie eine gut\ngeölte Punkrock-Maschine\,\ndie nicht aufzuhalten ist.\n.\nOb große oder kleine Shows\, sie werden\nsie alle spielen und diese Einstellung\nhat sie von Einkaufszentren\, Squats\nund Trailerparks zu Festivals\nund großen Clubs geführt\nund auf dem Weg dorthin\nhaben sie für Bands\nwie #SickofitAll und #Zeke\nden Abend eröffnet.\n.\n#Soifersonne\nhttps://www.youtube.com/watch?v=rFFYHnPXgVo\n.\nMünchner #Oi-Quartett mit deutschen Texten!\n.\nHier greift unser Pilotprojekt "Junges Publikum"\,\nd.h. alle bis einschließlich 25 Jahren erhalten\ngegen Nachweis vergünstigten Eintritt für 10 €!\n.\n#punk #streetpunk #punkrock #oipunk #live #münchen #feierwerk #sunnyred #vollaufdiezwölf #ontour #projektjungespublikum #onstage\n.\nVeranstaltungsort: Sunny Red\nLokation: Feierwerk München\, Hansastrasse 21\, D-81373 München\nFacebook: https://www.facebook.com/pages/Sunny-Red/119981131398975\n\nKartenvorverkauf:\nwww.eventim-light.com/de/a/5b33c4afdfd7af04b531ffc9/e/6302f8642405d7246a6582cf\nEventim-Vorverkauf: 13.90 Euro\nAbendkasse: 15.- Euro\nMembership: 12.- Euro\nBaby-Preis: 10.- Euro (für Gäste bis einschliesslich 25 Jahre)\n\n00
URL:https://supporterclub.net/event/reckless-upstarts-special-guest-tear-them-down-support-soifersonne-muenchen/
LOCATION:Sunny Red\, Hansastrasse 41\, München\, Bayern\, 81373\, Deutschland
CATEGORIES:Bühne,Konzert,live,Oi,Oi Punk,on stage,Punk,Punk Rock,Street Punk
ATTACH;FMTTYPE=image/jpeg:https://supporterclub.net/wp-content/uploads/2022/09/301246550_6300858539928690_6257475453109572070_n.jpg
ORGANIZER;CN="M%C3%BCnchner Union zur F%C3%B6rderung von Talenten (MUFT)":MAILTO:stefan@subkultura-booking.eu
END:VEVENT
BEGIN:VEVENT
DTSTART;TZID=Europe/Berlin:20220911T230000
DTEND;TZID=Europe/Berlin:20220912T090000
DTSTAMP:20260420T145259
CREATED:20220909T135113Z
LAST-MODIFIED:20230630T070833Z
UID:1091-1662937200-1662973200@supporterclub.net
SUMMARY:Drei Nächte unter der roten Sonne..
DESCRIPTION:COME TO THE SAFE SPACE!\n\n\nDas Programm dieses Wochenende:\n.\n\nSonntag 11.09. ab 23:00 Uhr\n[NONE/SUCH PRES.] \n– COACHES IN TROUBLE \n– DJ MELL G\nYouTube: https://www.youtube.com/watch?v=XyUt7hR63bg \n– SPACER WOMAN\nYouTube: https://www.youtube.com/watch?v=Pk23eqARe8M \n– Veranstaltung ausverkauft –\nAuch am Sonntag war die Rote Sonne bis zum Anschlag gefüllt. Die gut sortierte Gästeliste ermöglichte kaum spontanen Besucher*innen noch in den Club zu gelangen. Bis acht Uhr früh feierten die Gäste ausgelassen.\n.\n\nNO SPACE FOR SEXSIM\, RACISM\, HOMOPHOBIA & TRANSPHOBIA! ROTE SONNE IS A SAFE SPACE FOR EVERYONE\, PLEASE RESPECT THAT!\n.\nROTE SONNE\n\n\nMaximiliansplatz 5\n80333 München\n\n\nWebseite: http://www.rote-sonne.com/\n\n\nFacebook: https://www.facebook.com/rotesonne\n\n\nInstagram: https://www.instagram.com/clubrotesonne/\n\n\n\n00
URL:https://supporterclub.net/event/drei-naechte-unter-der-roten-sonne-3/
LOCATION:Rote Sonne\, Maximiliansplatz 5\, München\, Bayern\, 80333\, Deutschland
CATEGORIES:Elektro,Technisch,Techno
ATTACH;FMTTYPE=image/jpeg:https://supporterclub.net/wp-content/uploads/2022/09/305270688_10159588305724713_6884141878984739327_n.jpg
ORGANIZER;CN="Rote Sonne":MAILTO:info@rote-sonne.com
END:VEVENT
BEGIN:VEVENT
DTSTART;TZID=Europe/Berlin:20220910T230000
DTEND;TZID=Europe/Berlin:20220911T090000
DTSTAMP:20260420T145259
CREATED:20220909T134236Z
LAST-MODIFIED:20230630T070807Z
UID:1089-1662850800-1662886800@supporterclub.net
SUMMARY:Drei Nächte unter der roten Sonne..
DESCRIPTION:COME TO THE SAFE SPACE!\n\n\nDas Programm dieses Wochenende:\n.\n\n\n\nSamstag 10.09 ab 23:00 Uhr\n[ROTE SONNE PRES.] \n– CECILIA TOSH\nYouTube: https://www.youtube.com/watch?v=quid4Yd7JN0 \n– PERYL *LIVE\nYouTube: https://www.youtube.com/watch?v=CiCvKJBLRFw \n– TALISMANN\n \n– TOM ALTTHALER \n– Veranstaltung ausverkauft –\nDer Samstag Abend war in München sehr verregnet\, fast konnte man die Rote Sonne nur im Boot erreichen. Richtig voll wurde es erst nach ein Uhr\, gegen zwei Uhr Morgens war der Club voll. Die Acts animierten Besucher*innen mehr als ein Stunde zu warten\, bis sie in die Sonne konnten. Um fünf Uhr Morgens startete ein besonderer Live Act – bis gegen sieben Uhr drängten noch neue Gäste in den Club.\n.\n\nNO SPACE FOR SEXSIM\, RACISM\, HOMOPHOBIA & TRANSPHOBIA! ROTE SONNE IS A SAFE SPACE FOR EVERYONE\, PLEASE RESPECT THAT!\n.\nROTE SONNE\n\n\nMaximiliansplatz 5\n80333 München\n\n\nWebseite: http://www.rote-sonne.com/\n\n\nFacebook: https://www.facebook.com/rotesonne\n\n\nInstagram: https://www.instagram.com/clubrotesonne/\n\n\n\n00
URL:https://supporterclub.net/event/drei-naechte-unter-der-roten-sonne-2/
LOCATION:Rote Sonne\, Maximiliansplatz 5\, München\, Bayern\, 80333\, Deutschland
CATEGORIES:Elektro,Technisch,Techno
ATTACH;FMTTYPE=image/jpeg:https://supporterclub.net/wp-content/uploads/2022/09/305270688_10159588305724713_6884141878984739327_n.jpg
ORGANIZER;CN="Rote Sonne":MAILTO:info@rote-sonne.com
END:VEVENT
BEGIN:VEVENT
DTSTART;TZID=Europe/Berlin:20220909T230000
DTEND;TZID=Europe/Berlin:20220910T090000
DTSTAMP:20260420T145259
CREATED:20220909T132442Z
LAST-MODIFIED:20220912T145703Z
UID:1083-1662764400-1662800400@supporterclub.net
SUMMARY:Drei Nächte unter der roten Sonne..
DESCRIPTION:COME TO THE SAFE SPACE!\n\n\nDas Programm dieses Wochenende:\n.\n\n\n> Freitag 09.09 ab 23:00 Uhr\n[HAVEN X ROTE SONNE]\n\n\n.\n– AOIFE\nYouTube: https://www.youtube.com/watch?v=qmbDW6UIJTc\n\n\n.\n– JAMES NEWMARCH B“B VOICEDRONE\nYouTUbe: https://www.youtube.com/watch?v=-4z4IbLBzVc\n\n\n.\n– KEEPSAKES\nYouTube: https://www.youtube.com/watch?v=gNH1kidP1BM\n\n\n.\n– MANNI DEE\nYouTube: https://www.youtube.com/watch?v=sIPJTWtTXlk\n\n\n.\n\n\n. \n– Veranstaltung ausverkauft –\nab etwa 01:00 Uhr war die Rote Sonne (wie so oft) ausgebucht – Einlass gab es fast nur noch für Reservierungen\, oder man musste sehr lange vor dem Eingang warten um das geniale Line Up\, zumindest zum Teil\, noch geniessen zu können.\n\n\n\n.\nNO SPACE FOR SEXSIM\, RACISM\, HOMOPHOBIA & TRANSPHOBIA! ROTE SONNE IS A SAFE SPACE FOR EVERYONE\, PLEASE RESPECT THAT!\n\n\n.\n.\nROTE SONNE\nMaximiliansplatz 5\n80333 München\n\n\nWebseite: http://www.rote-sonne.com/\n\n\nFacebook: https://www.facebook.com/rotesonne\n\n\nInstagram: https://www.instagram.com/clubrotesonne/\n\n00
URL:https://supporterclub.net/event/drei-naechte-unter-der-roten-sonne/
LOCATION:Rote Sonne\, Maximiliansplatz 5\, München\, Bayern\, 80333\, Deutschland
CATEGORIES:Elektro,Technisch,Techno
ATTACH;FMTTYPE=image/jpeg:https://supporterclub.net/wp-content/uploads/2022/09/305270688_10159588305724713_6884141878984739327_n.jpg
ORGANIZER;CN="Rote Sonne":MAILTO:info@rote-sonne.com
END:VEVENT
END:VCALENDAR